Package: CNVrd2 Version: 1.47.0 Command: /home/biocbuild/bbs-3.22-bioc/R/bin/R CMD build --keep-empty-dirs --no-resave-data --md5 CNVrd2 StartedAt: 2025-10-24 17:04:56 -0400 (Fri, 24 Oct 2025) EndedAt: 2025-10-24 17:06:08 -0400 (Fri, 24 Oct 2025) EllapsedTime: 72.1 seconds RetCode: 0 Status: OK PackageFile: CNVrd2_1.47.0.tar.gz PackageFileSize: 2.828 MiB