Package: CNVrd2 Version: 1.48.0 Command: /Library/Frameworks/R.framework/Resources/bin/R CMD INSTALL CNVrd2 StartedAt: 2025-11-03 15:44:14 -0500 (Mon, 03 Nov 2025) EndedAt: 2025-11-03 15:45:09 -0500 (Mon, 03 Nov 2025) EllapsedTime: 55.2 seconds RetCode: 0 Status: OK