Package: CNVrd2 Version: 1.48.0 Command: rm -rf CNVrd2.buildbin-libdir && mkdir CNVrd2.buildbin-libdir && /Users/biocbuild/BBS/utils/build-universal.sh CNVrd2_1.48.0.tar.gz /Library/Frameworks/R.framework/Resources/bin/R CNVrd2.buildbin-libdir StartedAt: 2025-11-04 01:33:48 -0500 (Tue, 04 Nov 2025) EndedAt: 2025-11-04 01:34:46 -0500 (Tue, 04 Nov 2025) EllapsedTime: 58.0 seconds RetCode: 0 Status: OK PackageFile: CNVrd2_1.48.0.tgz PackageFileSize: 2.923 MiB