Package: CNVrd2 Version: 1.47.0 Command: /Library/Frameworks/R.framework/Resources/bin/R CMD INSTALL CNVrd2 StartedAt: 2025-10-24 15:25:46 -0400 (Fri, 24 Oct 2025) EndedAt: 2025-10-24 15:26:03 -0400 (Fri, 24 Oct 2025) EllapsedTime: 17.7 seconds RetCode: 0 Status: OK