Package: CNVrd2 Version: 1.47.0 Command: /Library/Frameworks/R.framework/Resources/bin/R CMD build --keep-empty-dirs --no-resave-data CNVrd2 StartedAt: 2025-10-24 16:02:04 -0400 (Fri, 24 Oct 2025) EndedAt: 2025-10-24 16:02:36 -0400 (Fri, 24 Oct 2025) EllapsedTime: 32.4 seconds RetCode: 0 Status: OK PackageFile: CNVrd2_1.47.0.tar.gz PackageFileSize: 2.826 MiB