Package: CNVrd2 Version: 1.47.0 Command: rm -rf CNVrd2.buildbin-libdir && mkdir CNVrd2.buildbin-libdir && /Users/biocbuild/BBS/utils/build-universal.sh CNVrd2_1.47.0.tar.gz /Library/Frameworks/R.framework/Resources/bin/R CNVrd2.buildbin-libdir StartedAt: 2025-10-24 22:58:23 -0400 (Fri, 24 Oct 2025) EndedAt: 2025-10-24 22:58:41 -0400 (Fri, 24 Oct 2025) EllapsedTime: 18.4 seconds RetCode: 0 Status: OK PackageFile: CNVrd2_1.47.0.tgz PackageFileSize: 2.927 MiB