Package: CNVRanger Version: 1.26.0 Command: /home/biocbuild/bbs-3.22-bioc/R/bin/R CMD INSTALL CNVRanger StartedAt: 2025-11-16 15:25:48 -0500 (Sun, 16 Nov 2025) EndedAt: 2025-11-16 15:26:12 -0500 (Sun, 16 Nov 2025) EllapsedTime: 23.5 seconds RetCode: 0 Status: OK