Package: CNVRanger Version: 1.26.0 Command: /home/biocbuild/bbs-3.22-bioc/R/bin/R CMD build --keep-empty-dirs --no-resave-data --md5 CNVRanger StartedAt: 2025-11-16 17:01:28 -0500 (Sun, 16 Nov 2025) EndedAt: 2025-11-16 17:04:46 -0500 (Sun, 16 Nov 2025) EllapsedTime: 198.2 seconds RetCode: 0 Status: OK PackageFile: CNVRanger_1.26.0.tar.gz PackageFileSize: 1.961 MiB