Package: CNVPanelizer Version: 1.41.0 Command: /home/biocbuild/bbs-3.22-bioc/R/bin/R CMD INSTALL CNVPanelizer StartedAt: 2025-10-24 15:26:43 -0400 (Fri, 24 Oct 2025) EndedAt: 2025-10-24 15:27:03 -0400 (Fri, 24 Oct 2025) EllapsedTime: 20.3 seconds RetCode: 0 Status: OK