Package: CNVMetrics Version: 1.13.0 Command: /home/biocbuild/bbs-3.22-bioc/R/bin/R CMD INSTALL CNVMetrics StartedAt: 2025-10-24 16:09:34 -0400 (Fri, 24 Oct 2025) EndedAt: 2025-10-24 16:09:45 -0400 (Fri, 24 Oct 2025) EllapsedTime: 10.6 seconds RetCode: 0 Status: OK