Package: CNVMetrics Version: 1.14.0 Command: /home/biocbuild/bbs-3.22-bioc/R/bin/R CMD check --install=check:CNVMetrics.install-out.txt --library=/home/biocbuild/bbs-3.22-bioc/R/site-library --timings CNVMetrics_1.14.0.tar.gz StartedAt: 2025-11-20 23:02:50 -0500 (Thu, 20 Nov 2025) EndedAt: 2025-11-20 23:04:45 -0500 (Thu, 20 Nov 2025) EllapsedTime: 115.1 seconds RetCode: 1 Status: ERROR CheckDir: CNVMetrics.Rcheck Warnings: NA