Package: CNVMetrics Version: 1.14.0 Command: /Library/Frameworks/R.framework/Resources/bin/R CMD INSTALL CNVMetrics StartedAt: 2025-10-31 15:56:09 -0400 (Fri, 31 Oct 2025) EndedAt: 2025-10-31 15:56:24 -0400 (Fri, 31 Oct 2025) EllapsedTime: 14.6 seconds RetCode: 0 Status: OK