Package: CNVMetrics Version: 1.14.0 Command: /Library/Frameworks/R.framework/Resources/bin/R CMD build --keep-empty-dirs --no-resave-data CNVMetrics StartedAt: 2025-10-31 16:36:32 -0400 (Fri, 31 Oct 2025) EndedAt: 2025-10-31 16:37:20 -0400 (Fri, 31 Oct 2025) EllapsedTime: 48.1 seconds RetCode: 0 Status: OK PackageFile: CNVMetrics_1.14.0.tar.gz PackageFileSize: 4.738 MiB