Package: CNVMetrics Version: 1.14.0 Command: rm -rf CNVMetrics.buildbin-libdir && mkdir CNVMetrics.buildbin-libdir && /Users/biocbuild/BBS/utils/build-universal.sh CNVMetrics_1.14.0.tar.gz /Library/Frameworks/R.framework/Resources/bin/R CNVMetrics.buildbin-libdir StartedAt: 2025-11-04 01:33:43 -0500 (Tue, 04 Nov 2025) EndedAt: 2025-11-04 01:34:00 -0500 (Tue, 04 Nov 2025) EllapsedTime: 17.4 seconds RetCode: 0 Status: OK PackageFile: CNVMetrics_1.14.0.tgz PackageFileSize: 2.748 MiB