Package: CNVMetrics Version: 1.14.0 Maintainer: Astrid DeschĂȘnes MaintainerEmail: adeschen at hotmail.com git_url: https://git.bioconductor.org/packages/CNVMetrics git_branch: RELEASE_3_22 git_last_commit: 0cb57c2 git_last_commit_date: 2025-10-29 11:14:10 -0500 (Wed, 29 Oct 2025)