Package: CNTools Version: 1.65.0 Command: /home/biocbuild/bbs-3.22-bioc/R/bin/R CMD INSTALL CNTools StartedAt: 2025-10-27 15:31:29 -0400 (Mon, 27 Oct 2025) EndedAt: 2025-10-27 15:31:48 -0400 (Mon, 27 Oct 2025) EllapsedTime: 18.5 seconds RetCode: 0 Status: OK