Package: CNORode Version: 1.52.0 Command: /home/biocbuild/bbs-3.22-bioc/R/bin/R CMD check --install=check:CNORode.install-out.txt --library=/home/biocbuild/bbs-3.22-bioc/R/site-library --timings CNORode_1.52.0.tar.gz StartedAt: 2025-10-30 22:12:09 -0400 (Thu, 30 Oct 2025) EndedAt: 2025-10-30 22:13:24 -0400 (Thu, 30 Oct 2025) EllapsedTime: 75.1 seconds RetCode: 0 Status: WARNINGS CheckDir: CNORode.Rcheck Warnings: 2