Package: CNORode Version: 1.51.0 Command: /Library/Frameworks/R.framework/Resources/bin/R CMD INSTALL CNORode StartedAt: 2025-10-24 15:13:01 -0400 (Fri, 24 Oct 2025) EndedAt: 2025-10-24 15:13:07 -0400 (Fri, 24 Oct 2025) EllapsedTime: 6.4 seconds RetCode: 0 Status: OK