Package: CNORode Version: 1.51.0 Command: /Library/Frameworks/R.framework/Resources/bin/R CMD build --keep-empty-dirs --no-resave-data CNORode StartedAt: 2025-10-24 16:01:28 -0400 (Fri, 24 Oct 2025) EndedAt: 2025-10-24 16:01:42 -0400 (Fri, 24 Oct 2025) EllapsedTime: 13.1 seconds RetCode: 0 Status: OK PackageFile: CNORode_1.51.0.tar.gz PackageFileSize: 519.8 KiB