Package: CNORode Version: 1.51.0 Command: rm -rf CNORode.buildbin-libdir && mkdir CNORode.buildbin-libdir && /Users/biocbuild/BBS/utils/build-universal.sh CNORode_1.51.0.tar.gz /Library/Frameworks/R.framework/Resources/bin/R CNORode.buildbin-libdir StartedAt: 2025-10-24 22:58:18 -0400 (Fri, 24 Oct 2025) EndedAt: 2025-10-24 22:58:26 -0400 (Fri, 24 Oct 2025) EllapsedTime: 8.2 seconds RetCode: 0 Status: OK PackageFile: CNORode_1.51.0.tgz PackageFileSize: 439.9 KiB