Package: CNORfuzzy Version: 1.51.0 Command: /home/biocbuild/R/R/bin/R CMD INSTALL CNORfuzzy StartedAt: 2025-10-23 20:33:57 -0000 (Thu, 23 Oct 2025) EndedAt: 2025-10-23 20:34:12 -0000 (Thu, 23 Oct 2025) EllapsedTime: 15.6 seconds RetCode: 0 Status: OK