Package: CNORfeeder Version: 1.49.0 Command: /home/biocbuild/bbs-3.22-bioc/R/bin/R CMD INSTALL CNORfeeder StartedAt: 2025-10-24 15:25:39 -0400 (Fri, 24 Oct 2025) EndedAt: 2025-10-24 15:25:48 -0400 (Fri, 24 Oct 2025) EllapsedTime: 8.9 seconds RetCode: 0 Status: OK