Package: CNORfeeder Version: 1.50.0 Command: /Library/Frameworks/R.framework/Resources/bin/R CMD build --keep-empty-dirs --no-resave-data CNORfeeder StartedAt: 2025-11-10 15:58:37 -0500 (Mon, 10 Nov 2025) EndedAt: 2025-11-10 15:58:44 -0500 (Mon, 10 Nov 2025) EllapsedTime: 7.1 seconds RetCode: 0 Status: OK PackageFile: CNORfeeder_1.50.0.tar.gz PackageFileSize: 3.435 MiB