Package: CNORfeeder Version: 1.50.0 Command: rm -rf CNORfeeder.buildbin-libdir && mkdir CNORfeeder.buildbin-libdir && /Users/biocbuild/BBS/utils/build-universal.sh CNORfeeder_1.50.0.tar.gz /Library/Frameworks/R.framework/Resources/bin/R CNORfeeder.buildbin-libdir StartedAt: 2025-11-10 23:15:25 -0500 (Mon, 10 Nov 2025) EndedAt: 2025-11-10 23:15:29 -0500 (Mon, 10 Nov 2025) EllapsedTime: 4.1 seconds RetCode: 0 Status: OK PackageFile: CNORfeeder_1.50.0.tgz PackageFileSize: 2.197 MiB