Package: CNORdt Version: 1.51.0 Command: /home/biocbuild/bbs-3.22-bioc/R/bin/R CMD INSTALL CNORdt StartedAt: 2025-10-24 15:25:40 -0400 (Fri, 24 Oct 2025) EndedAt: 2025-10-24 15:25:48 -0400 (Fri, 24 Oct 2025) EllapsedTime: 8.5 seconds RetCode: 0 Status: OK