Package: CNAnorm Version: 1.55.0 Command: /home/biocbuild/bbs-3.22-bioc/R/bin/R CMD INSTALL CNAnorm StartedAt: 2025-10-24 15:12:51 -0400 (Fri, 24 Oct 2025) EndedAt: 2025-10-24 15:12:59 -0400 (Fri, 24 Oct 2025) EllapsedTime: 7.6 seconds RetCode: 0 Status: OK