Package: CMA Version: 1.67.0 Command: /home/biocbuild/bbs-3.22-bioc/R/bin/R CMD INSTALL CMA StartedAt: 2025-10-24 15:22:54 -0400 (Fri, 24 Oct 2025) EndedAt: 2025-10-24 15:23:07 -0400 (Fri, 24 Oct 2025) EllapsedTime: 13.0 seconds RetCode: 0 Status: OK