Package: CMA Version: 1.68.0 Command: /Library/Frameworks/R.framework/Resources/bin/R CMD INSTALL CMA StartedAt: 2025-11-10 15:06:46 -0500 (Mon, 10 Nov 2025) EndedAt: 2025-11-10 15:06:51 -0500 (Mon, 10 Nov 2025) EllapsedTime: 5.7 seconds RetCode: 0 Status: OK