Package: CMA Version: 1.68.0 Command: rm -rf CMA.buildbin-libdir && mkdir CMA.buildbin-libdir && /Users/biocbuild/BBS/utils/build-universal.sh CMA_1.68.0.tar.gz /Library/Frameworks/R.framework/Resources/bin/R CMA.buildbin-libdir StartedAt: 2025-11-10 23:15:19 -0500 (Mon, 10 Nov 2025) EndedAt: 2025-11-10 23:15:25 -0500 (Mon, 10 Nov 2025) EllapsedTime: 6.1 seconds RetCode: 0 Status: OK PackageFile: CMA_1.68.0.tgz PackageFileSize: 1.901 MiB