Package: CINdex Version: 1.37.2 Command: /home/biocbuild/bbs-3.22-bioc/R/bin/R CMD INSTALL CINdex StartedAt: 2025-10-27 15:19:10 -0400 (Mon, 27 Oct 2025) EndedAt: 2025-10-27 15:19:32 -0400 (Mon, 27 Oct 2025) EllapsedTime: 21.9 seconds RetCode: 0 Status: OK