Package: CIMICE Version: 1.17.0 Command: /home/biocbuild/bbs-3.22-bioc/R/bin/R CMD build --keep-empty-dirs --no-resave-data --md5 CIMICE StartedAt: 2025-10-24 17:00:22 -0400 (Fri, 24 Oct 2025) EndedAt: 2025-10-24 17:00:47 -0400 (Fri, 24 Oct 2025) EllapsedTime: 25.0 seconds RetCode: 0 Status: OK PackageFile: CIMICE_1.17.0.tar.gz PackageFileSize: 1.596 MiB