Package: CIMICE Version: 1.18.0 Command: /Library/Frameworks/R.framework/Resources/bin/R CMD build --keep-empty-dirs --no-resave-data CIMICE StartedAt: 2025-11-10 15:56:16 -0500 (Mon, 10 Nov 2025) EndedAt: 2025-11-10 15:56:27 -0500 (Mon, 10 Nov 2025) EllapsedTime: 11.1 seconds RetCode: 0 Status: OK PackageFile: CIMICE_1.18.0.tar.gz PackageFileSize: 1.559 MiB