Package: CHRONOS Version: 1.37.0 Command: /Library/Frameworks/R.framework/Resources/bin/R CMD INSTALL CHRONOS StartedAt: 2025-10-24 15:34:12 -0400 (Fri, 24 Oct 2025) EndedAt: 2025-10-24 15:34:40 -0400 (Fri, 24 Oct 2025) EllapsedTime: 28.5 seconds RetCode: 0 Status: OK