Package: CHRONOS Version: 1.37.0 Command: /Library/Frameworks/R.framework/Resources/bin/R CMD build --keep-empty-dirs --no-resave-data CHRONOS StartedAt: 2025-10-24 16:32:39 -0400 (Fri, 24 Oct 2025) EndedAt: 2025-10-24 16:33:17 -0400 (Fri, 24 Oct 2025) EllapsedTime: 38.8 seconds RetCode: 0 Status: OK PackageFile: CHRONOS_1.37.0.tar.gz PackageFileSize: 1.118 MiB