Package: CHRONOS Version: 1.37.0 Command: rm -rf CHRONOS.buildbin-libdir && mkdir CHRONOS.buildbin-libdir && /Users/biocbuild/BBS/utils/build-universal.sh CHRONOS_1.37.0.tar.gz /Library/Frameworks/R.framework/Resources/bin/R CHRONOS.buildbin-libdir StartedAt: 2025-10-25 01:32:48 -0400 (Sat, 25 Oct 2025) EndedAt: 2025-10-25 01:33:19 -0400 (Sat, 25 Oct 2025) EllapsedTime: 31.3 seconds RetCode: 0 Status: OK PackageFile: CHRONOS_1.37.0.tgz PackageFileSize: 1.301 MiB