Package: CHRONOS Version: 1.37.0 Command: /Library/Frameworks/R.framework/Resources/bin/R CMD INSTALL CHRONOS StartedAt: 2025-10-24 15:11:43 -0400 (Fri, 24 Oct 2025) EndedAt: 2025-10-24 15:11:51 -0400 (Fri, 24 Oct 2025) EllapsedTime: 8.4 seconds RetCode: 0 Status: OK