Package: CHRONOS Version: 1.37.0 Command: /Library/Frameworks/R.framework/Resources/bin/R CMD build --keep-empty-dirs --no-resave-data CHRONOS StartedAt: 2025-10-24 15:58:59 -0400 (Fri, 24 Oct 2025) EndedAt: 2025-10-24 16:38:59 -0400 (Fri, 24 Oct 2025) EllapsedTime: 2400.3 seconds RetCode: None Status: TIMEOUT PackageFile: None PackageFileSize: NA