Package: CHETAH Version: 1.25.1 Command: /home/biocbuild/bbs-3.22-bioc/R/bin/R CMD INSTALL CHETAH StartedAt: 2025-10-24 16:08:07 -0400 (Fri, 24 Oct 2025) EndedAt: 2025-10-24 16:08:34 -0400 (Fri, 24 Oct 2025) EllapsedTime: 26.4 seconds RetCode: 0 Status: OK