Package: CHETAH Version: 1.25.1 Command: /home/biocbuild/bbs-3.22-bioc/R/bin/R CMD build --keep-empty-dirs --no-resave-data --md5 CHETAH StartedAt: 2025-10-24 16:56:54 -0400 (Fri, 24 Oct 2025) EndedAt: 2025-10-24 16:57:56 -0400 (Fri, 24 Oct 2025) EllapsedTime: 62.1 seconds RetCode: 0 Status: OK PackageFile: CHETAH_1.25.1.tar.gz PackageFileSize: 3.502 MiB