Package: CGHnormaliter Version: 1.63.0 Command: /home/biocbuild/bbs-3.22-bioc/R/bin/R CMD INSTALL CGHnormaliter StartedAt: 2025-10-24 15:25:27 -0400 (Fri, 24 Oct 2025) EndedAt: 2025-10-24 15:25:31 -0400 (Fri, 24 Oct 2025) EllapsedTime: 4.4 seconds RetCode: 0 Status: OK