Package: CGHnormaliter Version: 1.63.0 Command: /home/biocbuild/bbs-3.22-bioc/R/bin/R CMD build --keep-empty-dirs --no-resave-data --md5 CGHnormaliter StartedAt: 2025-10-24 16:56:31 -0400 (Fri, 24 Oct 2025) EndedAt: 2025-10-24 16:57:19 -0400 (Fri, 24 Oct 2025) EllapsedTime: 48.0 seconds RetCode: 0 Status: OK PackageFile: CGHnormaliter_1.63.0.tar.gz PackageFileSize: 1.246 MiB