Package: CGHnormaliter Version: 1.64.0 Command: /Library/Frameworks/R.framework/Resources/bin/R CMD INSTALL CGHnormaliter StartedAt: 2025-10-31 15:25:02 -0400 (Fri, 31 Oct 2025) EndedAt: 2025-10-31 15:25:12 -0400 (Fri, 31 Oct 2025) EllapsedTime: 10.8 seconds RetCode: 0 Status: OK