Package: CGHnormaliter Version: 1.63.0 Command: /Library/Frameworks/R.framework/Resources/bin/R CMD build --keep-empty-dirs --no-resave-data CGHnormaliter StartedAt: 2025-10-24 15:57:09 -0400 (Fri, 24 Oct 2025) EndedAt: 2025-10-24 15:57:32 -0400 (Fri, 24 Oct 2025) EllapsedTime: 22.2 seconds RetCode: 0 Status: OK PackageFile: CGHnormaliter_1.63.0.tar.gz PackageFileSize: 1.245 MiB