Package: CGHnormaliter Version: 1.63.0 Command: rm -rf CGHnormaliter.buildbin-libdir && mkdir CGHnormaliter.buildbin-libdir && /Users/biocbuild/BBS/utils/build-universal.sh CGHnormaliter_1.63.0.tar.gz /Library/Frameworks/R.framework/Resources/bin/R CGHnormaliter.buildbin-libdir StartedAt: 2025-10-24 22:57:12 -0400 (Fri, 24 Oct 2025) EndedAt: 2025-10-24 22:57:15 -0400 (Fri, 24 Oct 2025) EllapsedTime: 3.1 seconds RetCode: 0 Status: OK PackageFile: CGHnormaliter_1.63.0.tgz PackageFileSize: 1.267 MiB