Package: CGHcall Version: 2.71.0 Command: /home/biocbuild/bbs-3.22-bioc/R/bin/R CMD build --keep-empty-dirs --no-resave-data --md5 CGHcall StartedAt: 2025-10-27 16:47:43 -0400 (Mon, 27 Oct 2025) EndedAt: 2025-10-27 16:48:02 -0400 (Mon, 27 Oct 2025) EllapsedTime: 19.0 seconds RetCode: 0 Status: OK PackageFile: CGHcall_2.71.0.tar.gz PackageFileSize: 452.3 KiB