Package: CGHcall Version: 2.72.0 Command: /Library/Frameworks/R.framework/Resources/bin/R CMD INSTALL CGHcall StartedAt: 2025-10-30 15:08:52 -0400 (Thu, 30 Oct 2025) EndedAt: 2025-10-30 15:08:54 -0400 (Thu, 30 Oct 2025) EllapsedTime: 2.1 seconds RetCode: 0 Status: OK