Package: CGHcall Version: 2.72.0 Command: /Library/Frameworks/R.framework/Resources/bin/R CMD build --keep-empty-dirs --no-resave-data CGHcall StartedAt: 2025-10-30 15:54:31 -0400 (Thu, 30 Oct 2025) EndedAt: 2025-10-30 15:54:40 -0400 (Thu, 30 Oct 2025) EllapsedTime: 9.1 seconds RetCode: 0 Status: OK PackageFile: CGHcall_2.72.0.tar.gz PackageFileSize: 451.9 KiB