Package: CGHbase Version: 1.69.0 Command: /home/biocbuild/bbs-3.22-bioc/R/bin/R CMD INSTALL CGHbase StartedAt: 2025-10-27 15:16:42 -0400 (Mon, 27 Oct 2025) EndedAt: 2025-10-27 15:16:48 -0400 (Mon, 27 Oct 2025) EllapsedTime: 5.8 seconds RetCode: 0 Status: OK