Package: CGHbase Version: 1.69.0 Command: /Library/Frameworks/R.framework/Resources/bin/R CMD INSTALL CGHbase StartedAt: 2025-10-27 15:14:08 -0400 (Mon, 27 Oct 2025) EndedAt: 2025-10-27 15:14:29 -0400 (Mon, 27 Oct 2025) EllapsedTime: 21.4 seconds RetCode: 0 Status: OK