Package: CGHbase Version: 1.69.0 Command: rm -rf CGHbase.buildbin-libdir && mkdir CGHbase.buildbin-libdir && /Users/biocbuild/BBS/utils/build-universal.sh CGHbase_1.69.0.tar.gz /Library/Frameworks/R.framework/Resources/bin/R CGHbase.buildbin-libdir StartedAt: 2025-10-24 22:57:08 -0400 (Fri, 24 Oct 2025) EndedAt: 2025-10-24 22:57:11 -0400 (Fri, 24 Oct 2025) EllapsedTime: 3.1 seconds RetCode: 0 Status: OK PackageFile: CGHbase_1.69.0.tgz PackageFileSize: 1.061 MiB